BEGIN:VCALENDAR
VERSION:2.0
PRODID:icalendar-ruby
CALSCALE:GREGORIAN
METHOD:PUBLISH
BEGIN:VEVENT
DTSTAMP:20260425T132003Z
UID:18-883550@myamazingchurch.org
DTSTART:20260522T223000Z
DTEND:20260523T003000Z
CLASS:PUBLIC
CREATED:20260425T002651
DESCRIPTION:
LAST-MODIFIED:20260425T002651
LOCATION:5401 Tiffany Rd\, Knoxville\, TN 37912
SUMMARY:Manifestation Summit - 2026
URL;VALUE=URI:https://myamazingchurch.org/events/manifestation-summit-2026/
 2026-05-22
ATTACH;FILENAME=Manifestation (1500 x 784 px).png;FMTTYPE=image/png:https:/
 /dq5pwpg1q8ru0.cloudfront.net/2026/04/25/04/26/51/1e6480c9-a535-4674-ac04-
 7d6d75d5afae/Manifestation%20(1500%20x%20784%20px).png
END:VEVENT
END:VCALENDAR
